BEGIN:VCALENDAR
VERSION:2.0
PRODID:-//Tukios.com/
BEGIN:VEVENT
UID:831e845f-42d4-4d21-9449-48984c95f69f@www.tnfunerals.com
DTSTAMP:20260422T004707Z
DTSTART:20260423T150000Z
DTEND:20260423T160000Z
SUMMARY:Visitation
DESCRIPTION:
URL:https://www.tnfunerals.com/obituaries/timothy-loughery
LOCATION:Catholic Church of the Nativity 2793 Buckner Lane  Thompson's 
	Station TN 37179
GEO:35.7666537;-86.883021
END:VEVENT
END:VCALENDAR