BEGIN:VCALENDAR
VERSION:2.0
PRODID:-//Tukios.com/
BEGIN:VEVENT
UID:af4a03f6-d7a7-44c8-9521-0593b107313c@www.tnfunerals.com
DTSTAMP:20260422T004556Z
DTSTART:20260423T160000Z
DTEND:20260423T170000Z
SUMMARY:Memorial Service
DESCRIPTION:
URL:https://www.tnfunerals.com/obituaries/timothy-loughery
LOCATION:Catholic Church of the Nativity 2793 Buckner Lane  Thompson's 
	Station TN 37179
GEO:35.7666537;-86.883021
END:VEVENT
END:VCALENDAR