BEGIN:VCALENDAR
VERSION:2.0
PRODID:-//Tukios.com/
BEGIN:VEVENT
UID:0dc7908b-1d36-4d39-ae75-f702f266927f@www.tnfunerals.com
DTSTAMP:20260424T195821Z
DTSTART:20260425T160000Z
DTEND:20260425T170000Z
SUMMARY:Funeral Service
DESCRIPTION:
URL:https://www.tnfunerals.com/obituaries/joyce-mccall
LOCATION:Heritage Funeral Home 609 Bear Creek Pike  Columbia TN 38401
GEO:35.6372253;-86.9794247
END:VEVENT
END:VCALENDAR