BEGIN:VCALENDAR
VERSION:2.0
PRODID:-//Tukios.com/
BEGIN:VEVENT
UID:0c1f85e9-44fe-4837-8f58-dfb2aa9db7e6@www.tnfunerals.com
DTSTAMP:20260424T195720Z
DTSTART:20260425T150000Z
DTEND:20260425T160000Z
SUMMARY:Visitation
DESCRIPTION:
URL:https://www.tnfunerals.com/obituaries/joyce-mccall
LOCATION:Heritage Funeral Home 609 Bear Creek Pike  Columbia TN 38401
GEO:35.6372253;-86.9794247
END:VEVENT
END:VCALENDAR