BEGIN:VCALENDAR
VERSION:2.0
PRODID:-//Tukios.com/
BEGIN:VEVENT
UID:ecd8f147-e3d8-40e4-a87b-f81173f4caec@www.tnfunerals.com
DTSTAMP:20260424T201659Z
DTSTART:20260426T200000Z
DTEND:20260426T210000Z
SUMMARY:Funeral Service
DESCRIPTION:
URL:https://www.tnfunerals.com/obituaries/james-jimmy-dodson
LOCATION:Heritage Funeral Home 609 Bear Creek Pike  Columbia TN 38401
GEO:35.6372253;-86.9794247
END:VEVENT
END:VCALENDAR