BEGIN:VCALENDAR
VERSION:2.0
PRODID:-//Tukios.com/
BEGIN:VEVENT
UID:e9d8e66e-2414-42cb-a673-954b6ee650b2@www.tnfunerals.com
DTSTAMP:20260424T201015Z
DTSTART:20260426T180000Z
DTEND:20260426T200000Z
SUMMARY:Visitation
DESCRIPTION:
URL:https://www.tnfunerals.com/obituaries/james-jimmy-dodson
LOCATION:Heritage Funeral Home 609 Bear Creek Pike  Columbia TN 38401
GEO:35.6372253;-86.9794247
END:VEVENT
END:VCALENDAR