BEGIN:VCALENDAR
VERSION:2.0
PRODID:-//Tukios.com/
BEGIN:VEVENT
UID:4431c2dc-cffb-4671-8b3d-ff5b10857ee2@www.tnfunerals.com
DTSTAMP:20260422T004002Z
DTSTART:20260423T200000Z
DTEND:20260423T230000Z
SUMMARY:Visitation
DESCRIPTION:
URL:https://www.tnfunerals.com/obituaries/francia-sabio
LOCATION: 609 Bear Creek Pike  Columbia TN 38401
GEO:35.6372253;-86.9794247
END:VEVENT
END:VCALENDAR