BEGIN:VCALENDAR
VERSION:2.0
PRODID:-//Tukios.com/
BEGIN:VEVENT
UID:af1159d6-87e6-4bb7-959f-acc08b65bba8@www.tnfunerals.com
DTSTAMP:20260422T003605Z
DTSTART:20260423T230000Z
DTEND:20260424T000000Z
SUMMARY:Mass
DESCRIPTION:
URL:https://www.tnfunerals.com/obituaries/francia-sabio
LOCATION: 609 Bear Creek Pike  Columbia TN 38401
GEO:35.6372253;-86.9794247
END:VEVENT
END:VCALENDAR