BEGIN:VCALENDAR
VERSION:2.0
PRODID:-//Tukios.com/
BEGIN:VEVENT
UID:4268f91d-2767-4c47-9772-29b7d10ed0e0@www.tnfunerals.com
DTSTAMP:20260420T222533Z
DTSTART:20260423T220000Z
DTEND:20260424T000000Z
SUMMARY:Visitation
DESCRIPTION:
URL:https://www.tnfunerals.com/obituaries/august-machleit
LOCATION:Heritage Funeral Home 609 Bear Creek Pike  Columbia TN 38401
GEO:35.6372253;-86.9794247
END:VEVENT
END:VCALENDAR