BEGIN:VCALENDAR
VERSION:2.0
PRODID:-//Tukios.com/
BEGIN:VEVENT
UID:1ec7cbdd-ed29-468f-8ef9-62cf314f8ecd@www.tnfunerals.com
DTSTAMP:20260421T014801Z
DTSTART:20260502T180000Z
DTEND:20260502T200000Z
SUMMARY:Celebration of Life
DESCRIPTION:
URL:https://www.tnfunerals.com/obituaries/amy-beth-sickles-roberts
LOCATION:Parkway Baptist Church 1500 Tom J Hitch Parkway  Columbia TN 
	38401
GEO:35.6037452;-87.0156983
END:VEVENT
END:VCALENDAR